BEGIN:VCALENDAR
VERSION:2.0
PRODID:-// - ECPv6.15.20//NONSGML v1.0//EN
CALSCALE:GREGORIAN
METHOD:PUBLISH
X-ORIGINAL-URL:https://tessclarkson.com
X-WR-CALDESC:Events for 
REFRESH-INTERVAL;VALUE=DURATION:PT1H
X-Robots-Tag:noindex
X-PUBLISHED-TTL:PT1H
BEGIN:VTIMEZONE
TZID:America/Chicago
BEGIN:DAYLIGHT
TZOFFSETFROM:-0600
TZOFFSETTO:-0500
TZNAME:CDT
DTSTART:20250309T080000
END:DAYLIGHT
BEGIN:STANDARD
TZOFFSETFROM:-0500
TZOFFSETTO:-0600
TZNAME:CST
DTSTART:20251102T070000
END:STANDARD
BEGIN:DAYLIGHT
TZOFFSETFROM:-0600
TZOFFSETTO:-0500
TZNAME:CDT
DTSTART:20260308T080000
END:DAYLIGHT
BEGIN:STANDARD
TZOFFSETFROM:-0500
TZOFFSETTO:-0600
TZNAME:CST
DTSTART:20261101T070000
END:STANDARD
BEGIN:DAYLIGHT
TZOFFSETFROM:-0600
TZOFFSETTO:-0500
TZNAME:CDT
DTSTART:20270314T080000
END:DAYLIGHT
BEGIN:STANDARD
TZOFFSETFROM:-0500
TZOFFSETTO:-0600
TZNAME:CST
DTSTART:20271107T070000
END:STANDARD
END:VTIMEZONE
BEGIN:VEVENT
DTSTART;TZID=America/Chicago:20260814T100000
DTEND;TZID=America/Chicago:20260814T110000
DTSTAMP:20260422T131056
CREATED:20251203T174704Z
LAST-MODIFIED:20251203T174706Z
UID:3356-1786701600-1786705200@tessclarkson.com
SUMMARY:Astrology Series
DESCRIPTION:Join a FREE monthly astrology series as the St. Louis County Library to learn the basics of astrology\, create your natal chart\, and talk about one planet and sign each month! https://www.slcl.org
URL:https://tessclarkson.com/event/astrology-series-40/
LOCATION:Daniel Boone Branch\, 300 Clarkson Road\, Ellisville\, Missouri\, 63011\, United States
ATTACH;FMTTYPE=image/jpeg:https://tessclarkson.com/wp-content/uploads/2023/08/qtq80-Sgun2G.jpeg
END:VEVENT
BEGIN:VEVENT
DTSTART;TZID=America/Chicago:20260814T113000
DTEND;TZID=America/Chicago:20260814T123000
DTSTAMP:20260422T131056
CREATED:20251203T151340Z
LAST-MODIFIED:20251203T151343Z
UID:3327-1786707000-1786710600@tessclarkson.com
SUMMARY:Basic Vinyasa Yoga + Guided Meditation
DESCRIPTION:Join a FREE Basic Vinyasa Yoga + Guided Meditation class at the Daniel Boone Branch of the St. Louis County Library \n\n\n\nRelax\, stretch and strengthen your body with basic vinyasa yoga. Warm up\, flow through fundamental yoga poses and relax with a guided meditation designed to create a union of body and mind. Bring a yoga mat or large towel and wear comfortable clothes.
URL:https://tessclarkson.com/event/basic-vinyasa-yoga-guided-meditation-67/
LOCATION:Daniel Boone Branch\, 300 Clarkson Road\, Ellisville\, Missouri\, 63011\, United States
CATEGORIES:Meditation,Yoga
ATTACH;FMTTYPE=image/jpeg:https://tessclarkson.com/wp-content/uploads/2021/11/qtq80-IoaVgY-e1635815779419.jpeg
END:VEVENT
BEGIN:VEVENT
DTSTART;TZID=America/Chicago:20260819T140000
DTEND;TZID=America/Chicago:20260824T094500
DTSTAMP:20260422T131056
CREATED:20250826T180022Z
LAST-MODIFIED:20251203T150309Z
UID:3206-1787148000-1787564700@tessclarkson.com
SUMMARY:Navigating Your Way through Grief: A Healing Retreat
DESCRIPTION:Finding Clarity while Recovering from Loss \n\n\n\nLife’s inevitable challenges and losses can be overwhelming. Join an end-of-life doula\, yoga instructor\, astrologer\, and reiki master for a retreat that provides a nurturing environment where you can connect with your inner guru and navigate the path of healing. Our blend of gentle yoga\, guided meditation\, astrology\, and creative writing will help you find clarity\, acceptance\, and a renewed sense of purpose.
URL:https://tessclarkson.com/event/navigating-your-way-through-grief-a-healing-retreat/
CATEGORIES:Astrology,Community,Death Doula,Meditation,Writing,Yoga
ATTACH;FMTTYPE=image/jpeg:https://tessclarkson.com/wp-content/uploads/2025/03/image.jpeg
END:VEVENT
BEGIN:VEVENT
DTSTART;TZID=America/Chicago:20260827T073000
DTEND;TZID=America/Chicago:20260827T083000
DTSTAMP:20260422T131056
CREATED:20260325T171946Z
LAST-MODIFIED:20260325T171948Z
UID:3531-1787815800-1787819400@tessclarkson.com
SUMMARY:Virtual Advanced Vinyasa Yoga + Guided Meditation
DESCRIPTION:Through a virtual sanctuary\, reconnect with your center in a practice that honors the ritual of movement. This advanced vinyasa class invites you to slow down the mind while challenging the body through breath-led sequences.By prioritizing conscious alignment and somatic awareness\, we build a resilient body and a quiet mind. The flow serves as a moving meditation\, preparing you for a final\, seated guided journey into stillness. \n\n\n\nWhat to Expect: \n\n\n\n✨Intelligent Sequencing: Flow that respects the body’s natural wisdom. \n\n\n\n✨Nervous System Regulation: A focus on the breath to cultivate calm. \n\n\n\n✨Deep Integration: Extended meditation to seal your practice. \n\n\n\nCOMPLIMENTARY to paid Substack Subscribers. \n\n\n\nContact me to register. Or follow the link to SUBSTACK.
URL:https://tessclarkson.com/event/virtual-advanced-vinyasa-yoga-guided-meditation-17/
CATEGORIES:Meditation,Yoga
ATTACH;FMTTYPE=image/jpeg:https://tessclarkson.com/wp-content/uploads/2025/12/IMG_4314.jpg
END:VEVENT
BEGIN:VEVENT
DTSTART;TZID=America/Chicago:20260827T120000
DTEND;TZID=America/Chicago:20260827T130000
DTSTAMP:20260422T131056
CREATED:20260324T210920Z
LAST-MODIFIED:20260324T210922Z
UID:3482-1787832000-1787835600@tessclarkson.com
SUMMARY:Cosmic Connection Hour
DESCRIPTION:Find Your Center and Community at ✨COSMIC CONNECTION HOUR✨. \n\n\n\n✨Looking for a moment of calm in a busy week? Join me through my Substack community via Zoom for our Cosmic Connection Hour. \n\n\n\nWe’ll start by meditating to ground our energy\, followed by an open conversation about astrology\, current transits\, and more. It’s an hour dedicated to conversation\, connection\, and high vibes. \n\n\n\nDiscover more here: https://substack.com/@tessclarkson
URL:https://tessclarkson.com/event/cosmic-connection-hour-5/
CATEGORIES:Astrology,Community,Meditation
ATTACH;FMTTYPE=image/jpeg:https://tessclarkson.com/wp-content/uploads/2025/04/Instagram-CP-6.jpg
END:VEVENT
BEGIN:VEVENT
DTSTART;TZID=America/Chicago:20260903T073000
DTEND;TZID=America/Chicago:20260903T083000
DTSTAMP:20260422T131056
CREATED:20260325T172651Z
LAST-MODIFIED:20260325T172653Z
UID:3535-1788420600-1788424200@tessclarkson.com
SUMMARY:Virtual Advanced Vinyasa Yoga + Guided Meditation
DESCRIPTION:Through a virtual sanctuary\, reconnect with your center in a practice that honors the ritual of movement. This advanced vinyasa class invites you to slow down the mind while challenging the body through breath-led sequences.By prioritizing conscious alignment and somatic awareness\, we build a resilient body and a quiet mind. The flow serves as a moving meditation\, preparing you for a final\, seated guided journey into stillness. \n\n\n\nWhat to Expect: \n\n\n\n✨Intelligent Sequencing: Flow that respects the body’s natural wisdom. \n\n\n\n✨Nervous System Regulation: A focus on the breath to cultivate calm. \n\n\n\n✨Deep Integration: Extended meditation to seal your practice. \n\n\n\nCOMPLIMENTARY to paid Substack Subscribers. \n\n\n\nContact me to register. Or follow the link to SUBSTACK.
URL:https://tessclarkson.com/event/virtual-advanced-vinyasa-yoga-guided-meditation-19/
CATEGORIES:Meditation,Yoga
ATTACH;FMTTYPE=image/jpeg:https://tessclarkson.com/wp-content/uploads/2025/12/IMG_4314.jpg
END:VEVENT
BEGIN:VEVENT
DTSTART;TZID=America/Chicago:20260910T073000
DTEND;TZID=America/Chicago:20260910T083000
DTSTAMP:20260422T131056
CREATED:20260325T172150Z
LAST-MODIFIED:20260325T172153Z
UID:3533-1789025400-1789029000@tessclarkson.com
SUMMARY:Virtual Advanced Vinyasa Yoga + Guided Meditation
DESCRIPTION:Through a virtual sanctuary\, reconnect with your center in a practice that honors the ritual of movement. This advanced vinyasa class invites you to slow down the mind while challenging the body through breath-led sequences.By prioritizing conscious alignment and somatic awareness\, we build a resilient body and a quiet mind. The flow serves as a moving meditation\, preparing you for a final\, seated guided journey into stillness. \n\n\n\nWhat to Expect: \n\n\n\n✨Intelligent Sequencing: Flow that respects the body’s natural wisdom. \n\n\n\n✨Nervous System Regulation: A focus on the breath to cultivate calm. \n\n\n\n✨Deep Integration: Extended meditation to seal your practice. \n\n\n\nCOMPLIMENTARY to paid Substack Subscribers. \n\n\n\nContact me to register. Or follow the link to SUBSTACK.
URL:https://tessclarkson.com/event/virtual-advanced-vinyasa-yoga-guided-meditation-18/
CATEGORIES:Meditation,Yoga
ATTACH;FMTTYPE=image/jpeg:https://tessclarkson.com/wp-content/uploads/2025/12/IMG_4314.jpg
END:VEVENT
BEGIN:VEVENT
DTSTART;TZID=America/Chicago:20260911T100000
DTEND;TZID=America/Chicago:20260911T110000
DTSTAMP:20260422T131056
CREATED:20251203T174822Z
LAST-MODIFIED:20251203T174824Z
UID:3358-1789120800-1789124400@tessclarkson.com
SUMMARY:Astrology Series
DESCRIPTION:Join a FREE monthly astrology series as the St. Louis County Library to learn the basics of astrology\, create your natal chart\, and talk about one planet and sign each month! https://www.slcl.org
URL:https://tessclarkson.com/event/astrology-series-41/
LOCATION:Daniel Boone Branch\, 300 Clarkson Road\, Ellisville\, Missouri\, 63011\, United States
CATEGORIES:Astrology
ATTACH;FMTTYPE=image/jpeg:https://tessclarkson.com/wp-content/uploads/2023/08/qtq80-Sgun2G.jpeg
END:VEVENT
BEGIN:VEVENT
DTSTART;TZID=America/Chicago:20260911T113000
DTEND;TZID=America/Chicago:20260911T123000
DTSTAMP:20260422T131056
CREATED:20251203T151511Z
LAST-MODIFIED:20251203T151513Z
UID:3329-1789126200-1789129800@tessclarkson.com
SUMMARY:Basic Vinyasa Yoga + Guided Meditation
DESCRIPTION:Join a FREE Basic Vinyasa Yoga + Guided Meditation class at the Daniel Boone Branch of the St. Louis County Library \n\n\n\nRelax\, stretch and strengthen your body with basic vinyasa yoga. Warm up\, flow through fundamental yoga poses and relax with a guided meditation designed to create a union of body and mind. Bring a yoga mat or large towel and wear comfortable clothes.
URL:https://tessclarkson.com/event/basic-vinyasa-yoga-guided-meditation-68/
LOCATION:Daniel Boone Branch\, 300 Clarkson Road\, Ellisville\, Missouri\, 63011\, United States
CATEGORIES:Meditation,Yoga
ATTACH;FMTTYPE=image/jpeg:https://tessclarkson.com/wp-content/uploads/2021/11/qtq80-IoaVgY-e1635815779419.jpeg
END:VEVENT
BEGIN:VEVENT
DTSTART;TZID=America/Chicago:20260911T190000
DTEND;TZID=America/Chicago:20260911T210000
DTSTAMP:20260422T131056
CREATED:20251230T214958Z
LAST-MODIFIED:20251230T215000Z
UID:3425-1789153200-1789160400@tessclarkson.com
SUMMARY:Your Personal Universe: Master the Basics of Astrology & Your Birth Chart
DESCRIPTION:A beginner-friendly workshop to move beyond your Sun sign\, navigate retrogrades with ease\, and use the New and Full Moons as a roadmap for reflection and growth. \n\n\n\nIn this focused\, two-hour session\, you will: \n\n\n\n\nStop the Confusion: Demystify the “Big Three\,” ruling planets\, and houses so you can finally read your own chart.\n\n\n\nNavigate with Confidence: Learn what “Retrograde” actually means for you and how to handle these periods with grace instead of stress.\n\n\n\nAlign with Nature: Discover how to use New and Full Moons to target specific areas of your life for setting intentions and releasing what’s stuck.\n\n\n\nGain a Personal Map: Leave with the ability to look at a transit and know exactly which “House” (area of life) it is activating for you.\n\n\n\n\nWhat to Bring: \n\n\n\n\n\nYour Birth Info: To get the most out of this\, please have your date\, exact time\, and city of birth ready. \n\n\n\nA Notebook
URL:https://tessclarkson.com/event/your-personal-universe-master-the-basics-of-astrology-your-birth-chart/
LOCATION:hOMe Yoga\, 1365 Triad Center Drive\, St. Peters\, Missouri\, 63376\, United States
CATEGORIES:Astrology,Community
ATTACH;FMTTYPE=image/jpeg:https://tessclarkson.com/wp-content/uploads/2023/08/qtq80-paIRFv.jpeg
END:VEVENT
BEGIN:VEVENT
DTSTART;TZID=America/Chicago:20260912T110000
DTEND;TZID=America/Chicago:20260912T120000
DTSTAMP:20260422T131056
CREATED:20251021T175236Z
LAST-MODIFIED:20260127T193648Z
UID:3292-1789210800-1789214400@tessclarkson.com
SUMMARY:Creative Circle
DESCRIPTION:Contact me to register for this free online event\, which is the second Saturday of each month in 2026. Approx. 1 hour. Get 3 writing prompts. Write for 20 minutes. Have an opportunity to share your work and receive positive feedback!
URL:https://tessclarkson.com/event/creative-circle-50/
CATEGORIES:Writing
ATTACH;FMTTYPE=image/jpeg:https://tessclarkson.com/wp-content/uploads/2021/03/john-jennings-I_kGNSAqD-8-unsplash-scaled-e1616523844167.jpg
END:VEVENT
BEGIN:VEVENT
DTSTART;TZID=America/Chicago:20261009T100000
DTEND;TZID=America/Chicago:20261009T110000
DTSTAMP:20260422T131056
CREATED:20251203T174926Z
LAST-MODIFIED:20251203T174927Z
UID:3360-1791540000-1791543600@tessclarkson.com
SUMMARY:Astrology Series
DESCRIPTION:Join a FREE monthly astrology series as the St. Louis County Library to learn the basics of astrology\, create your natal chart\, and talk about one planet and sign each month! https://www.slcl.org
URL:https://tessclarkson.com/event/astrology-series-42/
LOCATION:Daniel Boone Branch\, 300 Clarkson Road\, Ellisville\, Missouri\, 63011\, United States
CATEGORIES:Astrology
ATTACH;FMTTYPE=image/jpeg:https://tessclarkson.com/wp-content/uploads/2023/08/qtq80-Sgun2G.jpeg
END:VEVENT
BEGIN:VEVENT
DTSTART;TZID=America/Chicago:20261009T113000
DTEND;TZID=America/Chicago:20261009T123000
DTSTAMP:20260422T131056
CREATED:20251203T151705Z
LAST-MODIFIED:20251203T151708Z
UID:3331-1791545400-1791549000@tessclarkson.com
SUMMARY:Basic Vinyasa Yoga + Guided Meditation
DESCRIPTION:Join a FREE Basic Vinyasa Yoga + Guided Meditation class at the Daniel Boone Branch of the St. Louis County Library \n\n\n\nRelax\, stretch and strengthen your body with basic vinyasa yoga. Warm up\, flow through fundamental yoga poses and relax with a guided meditation designed to create a union of body and mind. Bring a yoga mat or large towel and wear comfortable clothes.
URL:https://tessclarkson.com/event/basic-vinyasa-yoga-guided-meditation-69/
LOCATION:Daniel Boone Branch\, 300 Clarkson Road\, Ellisville\, Missouri\, 63011\, United States
CATEGORIES:Meditation,Yoga
ATTACH;FMTTYPE=image/jpeg:https://tessclarkson.com/wp-content/uploads/2021/11/qtq80-IoaVgY-e1635815779419.jpeg
END:VEVENT
BEGIN:VEVENT
DTSTART;TZID=America/Chicago:20261010T110000
DTEND;TZID=America/Chicago:20261010T120000
DTSTAMP:20260422T131056
CREATED:20251021T175327Z
LAST-MODIFIED:20260127T193517Z
UID:3294-1791630000-1791633600@tessclarkson.com
SUMMARY:Creative Circle
DESCRIPTION:Contact me to register for this free online event\, which is the second Saturday of each month in 2026. Approx. 1 hour. Get 3 writing prompts. Write for 20 minutes. Have an opportunity to share your work and receive positive feedback!
URL:https://tessclarkson.com/event/creative-circle-51/
CATEGORIES:Writing
ATTACH;FMTTYPE=image/jpeg:https://tessclarkson.com/wp-content/uploads/2021/03/john-jennings-I_kGNSAqD-8-unsplash-scaled-e1616523844167.jpg
END:VEVENT
BEGIN:VEVENT
DTSTART;TZID=America/Chicago:20261113T100000
DTEND;TZID=America/Chicago:20261113T110000
DTSTAMP:20260422T131056
CREATED:20251203T175030Z
LAST-MODIFIED:20251203T175102Z
UID:3362-1794564000-1794567600@tessclarkson.com
SUMMARY:Astrology Series
DESCRIPTION:Join a FREE monthly astrology series as the St. Louis County Library to learn the basics of astrology\, create your natal chart\, and talk about one planet and sign each month! https://www.slcl.org
URL:https://tessclarkson.com/event/astrology-series-43/
LOCATION:Daniel Boone Branch\, 300 Clarkson Road\, Ellisville\, Missouri\, 63011\, United States
CATEGORIES:Astrology
ATTACH;FMTTYPE=image/jpeg:https://tessclarkson.com/wp-content/uploads/2023/08/qtq80-Sgun2G.jpeg
END:VEVENT
BEGIN:VEVENT
DTSTART;TZID=America/Chicago:20261113T113000
DTEND;TZID=America/Chicago:20261113T123000
DTSTAMP:20260422T131056
CREATED:20251203T151950Z
LAST-MODIFIED:20251203T151951Z
UID:3333-1794569400-1794573000@tessclarkson.com
SUMMARY:Basic Vinyasa Yoga + Guided Meditation
DESCRIPTION:Join a FREE Basic Vinyasa Yoga + Guided Meditation class at the Daniel Boone Branch of the St. Louis County Library. \n\n\n\nRelax\, stretch and strengthen your body with basic vinyasa yoga. Warm up\, flow through fundamental yoga poses and relax with a guided meditation designed to create a union of body and mind. Bring a yoga mat or large towel and wear comfortable clothes.
URL:https://tessclarkson.com/event/basic-vinyasa-yoga-guided-meditation-70/
LOCATION:Daniel Boone Branch\, 300 Clarkson Road\, Ellisville\, Missouri\, 63011\, United States
CATEGORIES:Meditation,Yoga
ATTACH;FMTTYPE=image/jpeg:https://tessclarkson.com/wp-content/uploads/2021/11/qtq80-IoaVgY-e1635815779419.jpeg
END:VEVENT
BEGIN:VEVENT
DTSTART;TZID=America/Chicago:20261113T190000
DTEND;TZID=America/Chicago:20261113T203000
DTSTAMP:20260422T131056
CREATED:20251230T212735Z
LAST-MODIFIED:20251230T212816Z
UID:3421-1794596400-1794601800@tessclarkson.com
SUMMARY:Gentle Journeys: Creating a Sanctuary for Grief During the Holidays
DESCRIPTION:Find a Sense of “Home” Within Yourself Amidst the Holiday Glow \n\n\n\nThe holidays can feel overwhelming when you’re navigating the deep landscape of loss. Whether you are mourning the death of a loved one or a cherished pet\, or navigating the “living grief” of a terminal or life-altering diagnosis\, this season often feels at odds with your internal reality. \n\n\n\nWhile the world outside may seem loud and hurried\, the Gentle Journeys Workshop offers you a quiet sanctuary to catch your breath and honor your own pace. Through a nurturing blend of restorative yoga\, guided meditation\, and creative expression\, you will find the space to simply be with your experience. \n\n\n\nIn this workshop\, you will: \n\n\n\n\nEase the Holiday Pressure: Use gentle movement to release the physical “tightness” and exhaustion that often heighten when carrying a loss or a difficult diagnosis.\n\n\n\nExpress Your Inner Truth: Externalize the complex emotions of the season through simple writing exercises—giving you a private way to process your journey without any pressure to “perform” or hide your pain.\n\n\n\nProtect Your Peace: Learn practical\, “on-the-go” mindfulness tools to help you access a sense of calm during holiday gatherings.\n\n\n\n\nLeave feeling more grounded\, clearer\, and empowered to navigate the season. \n\n\n\nNo writing experience required. \n\n\n\nBring a photo of your beloved departed person or pet\, and/or their favorite object. \n\n\n\nDress comfortably.
URL:https://tessclarkson.com/event/gentle-journeys-creating-a-sanctuary-for-grief-during-the-holidays/
LOCATION:hOMe Yoga\, 1365 Triad Center Drive\, St. Peters\, Missouri\, 63376\, United States
CATEGORIES:Community,Death Doula,Meditation,Writing,Yoga
ATTACH;FMTTYPE=image/jpeg:https://tessclarkson.com/wp-content/uploads/2025/12/qtq80-cNKXGK.jpeg
END:VEVENT
BEGIN:VEVENT
DTSTART;TZID=America/Chicago:20261114T110000
DTEND;TZID=America/Chicago:20261114T120000
DTSTAMP:20260422T131056
CREATED:20251021T175418Z
LAST-MODIFIED:20260127T193608Z
UID:3296-1794654000-1794657600@tessclarkson.com
SUMMARY:Creative Circle
DESCRIPTION:Contact me to register for this free online event\, which is the second Saturday of each month in 2026. Approx. 1 hour. Get 3 writing prompts. Write for 20 minutes. Have an opportunity to share your work and receive positive feedback!
URL:https://tessclarkson.com/event/creative-circle-52/
CATEGORIES:Writing
ATTACH;FMTTYPE=image/jpeg:https://tessclarkson.com/wp-content/uploads/2021/03/john-jennings-I_kGNSAqD-8-unsplash-scaled-e1616523844167.jpg
END:VEVENT
BEGIN:VEVENT
DTSTART;TZID=America/Chicago:20261211T100000
DTEND;TZID=America/Chicago:20261211T110000
DTSTAMP:20260422T131056
CREATED:20251203T175324Z
LAST-MODIFIED:20251203T175326Z
UID:3347-1796983200-1796986800@tessclarkson.com
SUMMARY:Astrology Series
DESCRIPTION:Join a FREE monthly astrology series as the St. Louis County Library to learn the basics of astrology\, create your natal chart\, and talk about one planet and sign each month! https://www.slcl.org
URL:https://tessclarkson.com/event/astrology-series-44/
LOCATION:Daniel Boone Branch\, 300 Clarkson Road\, Ellisville\, Missouri\, 63011\, United States
CATEGORIES:Astrology
ATTACH;FMTTYPE=image/jpeg:https://tessclarkson.com/wp-content/uploads/2023/08/qtq80-Sgun2G.jpeg
END:VEVENT
BEGIN:VEVENT
DTSTART;TZID=America/Chicago:20261211T113000
DTEND;TZID=America/Chicago:20261211T123000
DTSTAMP:20260422T131056
CREATED:20251203T152105Z
LAST-MODIFIED:20251203T152108Z
UID:3335-1796988600-1796992200@tessclarkson.com
SUMMARY:Basic Vinyasa Yoga + Guided Meditation
DESCRIPTION:Join a FREE Basic Vinyasa Yoga + Guided Meditation class at the Daniel Boone Branch of the St. Louis County Library. \n\n\n\nRelax\, stretch and strengthen your body with basic vinyasa yoga. Warm up\, flow through fundamental yoga poses and relax with a guided meditation designed to create a union of body and mind. Bring a yoga mat or large towel and wear comfortable clothes.
URL:https://tessclarkson.com/event/basic-vinyasa-yoga-guided-meditation-71/
LOCATION:Daniel Boone Branch\, 300 Clarkson Road\, Ellisville\, Missouri\, 63011\, United States
CATEGORIES:Meditation,Yoga
ATTACH;FMTTYPE=image/jpeg:https://tessclarkson.com/wp-content/uploads/2021/11/qtq80-IoaVgY-e1635815779419.jpeg
END:VEVENT
BEGIN:VEVENT
DTSTART;TZID=America/Chicago:20261212T110000
DTEND;TZID=America/Chicago:20261212T120000
DTSTAMP:20260422T131056
CREATED:20251021T175532Z
LAST-MODIFIED:20260127T193541Z
UID:3298-1797073200-1797076800@tessclarkson.com
SUMMARY:Creative Circle
DESCRIPTION:Contact me to register for this free online event\, which is the second Saturday of each month in 2026. Approx. 1 hour. Get 3 writing prompts. Write for 20 minutes. Have an opportunity to share your work and receive positive feedback!
URL:https://tessclarkson.com/event/creative-circle-53/
CATEGORIES:Writing
ATTACH;FMTTYPE=image/jpeg:https://tessclarkson.com/wp-content/uploads/2021/03/john-jennings-I_kGNSAqD-8-unsplash-scaled-e1616523844167.jpg
END:VEVENT
END:VCALENDAR