BEGIN:VCALENDAR
VERSION:2.0
PRODID:-// - ECPv6.15.20//NONSGML v1.0//EN
CALSCALE:GREGORIAN
METHOD:PUBLISH
X-ORIGINAL-URL:https://tessclarkson.com
X-WR-CALDESC:Events for 
REFRESH-INTERVAL;VALUE=DURATION:PT1H
X-Robots-Tag:noindex
X-PUBLISHED-TTL:PT1H
BEGIN:VTIMEZONE
TZID:America/Chicago
BEGIN:DAYLIGHT
TZOFFSETFROM:-0600
TZOFFSETTO:-0500
TZNAME:CDT
DTSTART:20240310T080000
END:DAYLIGHT
BEGIN:STANDARD
TZOFFSETFROM:-0500
TZOFFSETTO:-0600
TZNAME:CST
DTSTART:20241103T070000
END:STANDARD
BEGIN:DAYLIGHT
TZOFFSETFROM:-0600
TZOFFSETTO:-0500
TZNAME:CDT
DTSTART:20250309T080000
END:DAYLIGHT
BEGIN:STANDARD
TZOFFSETFROM:-0500
TZOFFSETTO:-0600
TZNAME:CST
DTSTART:20251102T070000
END:STANDARD
BEGIN:DAYLIGHT
TZOFFSETFROM:-0600
TZOFFSETTO:-0500
TZNAME:CDT
DTSTART:20260308T080000
END:DAYLIGHT
BEGIN:STANDARD
TZOFFSETFROM:-0500
TZOFFSETTO:-0600
TZNAME:CST
DTSTART:20261101T070000
END:STANDARD
END:VTIMEZONE
BEGIN:VEVENT
DTSTART;TZID=America/Chicago:20250906T100000
DTEND;TZID=America/Chicago:20250906T110000
DTSTAMP:20260423T010423
CREATED:20250826T150355Z
LAST-MODIFIED:20250826T160315Z
UID:3186-1757152800-1757156400@tessclarkson.com
SUMMARY:SUBSTACK: Cosmic Connection Hour
DESCRIPTION:Join me through my Substack community via Zoom for an hour of conversation and connection. We’ll meditate to ground our energy and then discuss astrology and more.  \n\n\n\nDiscover more here: https://substack.com/@tessclarkson
URL:https://tessclarkson.com/event/cosmic-connection-hour/
CATEGORIES:Astrology,Community,Meditation
ATTACH;FMTTYPE=image/jpeg:https://tessclarkson.com/wp-content/uploads/2025/08/qtq80-KSd6dk.jpeg
END:VEVENT
BEGIN:VEVENT
DTSTART;TZID=America/Chicago:20250911T073000
DTEND;TZID=America/Chicago:20250911T083000
DTSTAMP:20260423T010423
CREATED:20250707T135323Z
LAST-MODIFIED:20250707T135535Z
UID:3126-1757575800-1757579400@tessclarkson.com
SUMMARY:Advanced Vinyasa Yoga + Guided Meditation
DESCRIPTION:Join me live\, online for an Advance Vinyasa Yoga + Guided Meditation class! We begin with a gentle warm-up sequence in which we will create awareness and activate the body for our practice. We will flow through fundamental poses while being conscious of each inhale and exhale. The sequences create a union with the mind\, body and spirit and develop strength and flexibility. The class will conclude with a restorative guided meditation\, designed to integrate the benefits of the entire practice and support deep relaxation. \n\n\n\nContact me for more information.
URL:https://tessclarkson.com/event/advanced-vinyasa-yoga-guided-meditation-6/
CATEGORIES:Yoga
ATTACH;FMTTYPE=image/jpeg:https://tessclarkson.com/wp-content/uploads/2024/12/17-e1760743636334.jpg
END:VEVENT
BEGIN:VEVENT
DTSTART;TZID=America/Chicago:20250917T130000
DTEND;TZID=America/Chicago:20250917T140000
DTSTAMP:20260423T010423
CREATED:20250826T160620Z
LAST-MODIFIED:20250826T160621Z
UID:3190-1758114000-1758117600@tessclarkson.com
SUMMARY:SUBSTACK: Astrology Workshop
DESCRIPTION:Join me through my Substack Community for a monthly astrology workshop. We will review the basics of astrology and the current energy. Discover more here: https://substack.com/@tessclarkson
URL:https://tessclarkson.com/event/substack-astrology-workshop-5/
CATEGORIES:Astrology
ATTACH;FMTTYPE=image/jpeg:https://tessclarkson.com/wp-content/uploads/2025/04/Instagram-CP-6.jpg
END:VEVENT
BEGIN:VEVENT
DTSTART;TZID=America/Chicago:20250918T073000
DTEND;TZID=America/Chicago:20250918T083000
DTSTAMP:20260423T010423
CREATED:20250707T135438Z
LAST-MODIFIED:20250707T135610Z
UID:3128-1758180600-1758184200@tessclarkson.com
SUMMARY:Advanced Vinyasa Yoga + Guided Meditation
DESCRIPTION:Join me live\, online for an Advance Vinyasa Yoga + Guided Meditation class! We begin with a gentle warm-up sequence in which we will create awareness and activate the body for our practice. We will flow through fundamental poses while being conscious of each inhale and exhale. The sequences create a union with the mind\, body and spirit and develop strength and flexibility. The class will conclude with a restorative guided meditation\, designed to integrate the benefits of the entire practice and support deep relaxation. \n\n\n\nContact me for more information.
URL:https://tessclarkson.com/event/advanced-vinyasa-yoga-guided-meditation-7/
CATEGORIES:Yoga
ATTACH;FMTTYPE=image/jpeg:https://tessclarkson.com/wp-content/uploads/2024/12/17-e1760743636334.jpg
END:VEVENT
BEGIN:VEVENT
DTSTART;TZID=America/Chicago:20250918T193000
DTEND;TZID=America/Chicago:20250918T220000
DTSTAMP:20260423T010423
CREATED:20250413T020026Z
LAST-MODIFIED:20250608T172628Z
UID:3017-1758223800-1758232800@tessclarkson.com
SUMMARY:Spirit Circle
DESCRIPTION:A PRIVATE meditation group event. Contact me for information.
URL:https://tessclarkson.com/event/spirit-circle-19/
CATEGORIES:Meditation
ATTACH;FMTTYPE=image/jpeg:https://tessclarkson.com/wp-content/uploads/2024/12/qtq80-4dl8gW-e1767649149199.jpeg
END:VEVENT
BEGIN:VEVENT
DTSTART;TZID=America/Chicago:20250919T100000
DTEND;TZID=America/Chicago:20250919T110000
DTSTAMP:20260423T010423
CREATED:20250413T174121Z
LAST-MODIFIED:20250413T174123Z
UID:3042-1758276000-1758279600@tessclarkson.com
SUMMARY:Astrology Series
DESCRIPTION:Join a FREE monthly astrology series as the St. Louis County Library to learn the basics of astrology\, create your natal chart\, and talk about one planet and sign each month! https://www.slcl.org
URL:https://tessclarkson.com/event/astrology-series-30/
LOCATION:Samuel C. Sachs Branch\, 16400 Burkhardt Pl.\, Chesterfield\, 63017\, United States
CATEGORIES:Astrology
ATTACH;FMTTYPE=image/jpeg:https://tessclarkson.com/wp-content/uploads/2023/08/qtq80-Sgun2G.jpeg
END:VEVENT
BEGIN:VEVENT
DTSTART;TZID=America/Chicago:20250919T113000
DTEND;TZID=America/Chicago:20250919T123000
DTSTAMP:20260423T010423
CREATED:20250413T175030Z
LAST-MODIFIED:20250826T145117Z
UID:3054-1758281400-1758285000@tessclarkson.com
SUMMARY:Basic Vinyasa Yoga + Guided Meditation
DESCRIPTION:Join a FREE Basic Vinyasa Yoga + Guided Meditation class at the Samuel C. Sachs Branch of the St. Louis County Library \n\n\n\nRelax\, stretch and strengthen your body with basic vinyasa yoga. Warm up\, flow through fundamental yoga poses and relax with a guided meditation designed to create a union of body and mind. Bring a yoga mat or large towel and wear comfortable clothes. \n\n\n\nhttps://www.slcl.org/hours-and-locations/samuel-c-sachs-branch
URL:https://tessclarkson.com/event/basic-vinyasa-yoga-guided-meditation-54/
LOCATION:Samuel C. Sachs Branch\, 16400 Burkhardt Pl.\, Chesterfield\, 63017\, United States
CATEGORIES:Yoga
ATTACH;FMTTYPE=image/jpeg:https://tessclarkson.com/wp-content/uploads/2025/03/qtq80-cJVabH.jpeg
END:VEVENT
BEGIN:VEVENT
DTSTART;TZID=America/Chicago:20250920T110000
DTEND;TZID=America/Chicago:20250920T120000
DTSTAMP:20260423T010423
CREATED:20241220T003954Z
LAST-MODIFIED:20241220T003954Z
UID:2347-1758366000-1758369600@tessclarkson.com
SUMMARY:Creative Circle
DESCRIPTION:Contact me to register for this free online event. Approx. 1 hour. Get 3 writing prompts. Write for 20 minutes. Have an opportunity to share your work and receive positive feedback!
URL:https://tessclarkson.com/event/creative-circle-39/
CATEGORIES:Writing
ATTACH;FMTTYPE=image/jpeg:https://tessclarkson.com/wp-content/uploads/2021/03/john-jennings-I_kGNSAqD-8-unsplash-scaled-e1616523844167.jpg
END:VEVENT
BEGIN:VEVENT
DTSTART;TZID=America/Chicago:20250925T073000
DTEND;TZID=America/Chicago:20250925T083000
DTSTAMP:20260423T010423
CREATED:20250826T161600Z
LAST-MODIFIED:20250826T161603Z
UID:3194-1758785400-1758789000@tessclarkson.com
SUMMARY:Advance Vinyasa Yoga + Guided Meditation
DESCRIPTION:Join me live\, online for an Advance Vinyasa Yoga + Guided Meditation class! We begin with a gentle warm-up sequence in which we will create awareness and activate the body for our practice. We will flow through fundamental poses while being conscious of each inhale and exhale. The sequences create a union with the mind\, body and spirit and develop strength and flexibility. The class will conclude with a restorative guided meditation\, designed to integrate the benefits of the entire practice and support deep relaxation. \n\n\n\nContact me for more information.
URL:https://tessclarkson.com/event/advance-vinyasa-yoga-guided-meditation-2/
CATEGORIES:Writing,Yoga
ATTACH;FMTTYPE=image/jpeg:https://tessclarkson.com/wp-content/uploads/2024/12/17-e1760743636334.jpg
END:VEVENT
BEGIN:VEVENT
DTSTART;TZID=America/Chicago:20250929T130000
DTEND;TZID=America/Chicago:20250929T133000
DTSTAMP:20260423T010423
CREATED:20250826T160935Z
LAST-MODIFIED:20250826T201331Z
UID:3192-1759150800-1759152600@tessclarkson.com
SUMMARY:SUBSTACK: Midday Vitality Meditation
DESCRIPTION:Join me for a 22-minute guided meditation to relax and reset your energy for the day! Find more information here: https://substack.com/@tessclarkson
URL:https://tessclarkson.com/event/substack-midday-vitality-meditation-4/
CATEGORIES:Meditation
ATTACH;FMTTYPE=image/jpeg:https://tessclarkson.com/wp-content/uploads/2025/04/qtq80-iNcFES.jpeg
END:VEVENT
BEGIN:VEVENT
DTSTART;TZID=America/Chicago:20251002T073000
DTEND;TZID=America/Chicago:20251002T083000
DTSTAMP:20260423T010423
CREATED:20250707T134646Z
LAST-MODIFIED:20250707T135829Z
UID:3116-1759390200-1759393800@tessclarkson.com
SUMMARY:Advanced Vinyasa Yoga + Guided Meditation
DESCRIPTION:Join me live\, online for an Advance Vinyasa Yoga + Guided Meditation class! We begin with a gentle warm-up sequence in which we will create awareness and activate the body for our practice. We will flow through fundamental poses while being conscious of each inhale and exhale. The sequences create a union with the mind\, body and spirit and develop strength and flexibility. The class will conclude with a restorative guided meditation\, designed to integrate the benefits of the entire practice and support deep relaxation. \n\n\n\nContact me for more information.
URL:https://tessclarkson.com/event/advanced-vinyasa-yoga-guided-meditation/
CATEGORIES:Yoga
ATTACH;FMTTYPE=image/jpeg:https://tessclarkson.com/wp-content/uploads/2024/12/17-e1760743636334.jpg
END:VEVENT
BEGIN:VEVENT
DTSTART;TZID=America/Chicago:20251004T000000
DTEND;TZID=America/Chicago:20251004T235959
DTSTAMP:20260423T010423
CREATED:20250825T195930Z
LAST-MODIFIED:20250825T195930Z
UID:1564-1759536000-1759622399@tessclarkson.com
SUMMARY:Last Call: An End of Life Festival
DESCRIPTION:Meet me at the festival! \nI’ll be offering Grief & Creativity mini workshops. \nDiscover more here: Last Call An End of Life Festival 
URL:https://tessclarkson.com/event/last-call-an-end-of-life-festival-3/
CATEGORIES:Death Doula
ATTACH;FMTTYPE=image/jpeg:https://tessclarkson.com/wp-content/uploads/2024/12/qtq80-RGArxk.jpeg
END:VEVENT
BEGIN:VEVENT
DTSTART;TZID=America/Chicago:20251006T140000
DTEND;TZID=America/Chicago:20251006T150000
DTSTAMP:20260423T010423
CREATED:20250826T202117Z
LAST-MODIFIED:20250826T202120Z
UID:3213-1759759200-1759762800@tessclarkson.com
SUMMARY:SUBSTACK: Cosmic Connection Hour
DESCRIPTION:Join me through my Substack community via Zoom for an hour of conversation and connection. We’ll meditate to ground our energy and then discuss astrology and more. Discover more here: https://substack.com/@tessclarkson
URL:https://tessclarkson.com/event/substack-cosmic-connection-hour/
CATEGORIES:Astrology,Community,Meditation
ATTACH;FMTTYPE=image/jpeg:https://tessclarkson.com/wp-content/uploads/2025/08/qtq80-KSd6dk.jpeg
END:VEVENT
BEGIN:VEVENT
DTSTART;TZID=America/Chicago:20251010T080000
DTEND;TZID=America/Chicago:20251012T170000
DTSTAMP:20260423T010423
CREATED:20250825T202926Z
LAST-MODIFIED:20250825T202937Z
UID:3151-1760083200-1760288400@tessclarkson.com
SUMMARY:Doulapalooza: Nourishing the Soul Workshop
DESCRIPTION:Join me at Doulapalooza by the National End-Of-Life Doula Alliance. I’ll be leading my “Nourishing the Soul” workshop. \n\n\n\nExplore all of the conference offerings here: Doulapalooza
URL:https://tessclarkson.com/event/doulapalooza-nourishing-the-soul-workshop/
CATEGORIES:Death Doula
ATTACH;FMTTYPE=image/jpeg:https://tessclarkson.com/wp-content/uploads/2025/03/image.jpeg
END:VEVENT
BEGIN:VEVENT
DTSTART;TZID=America/Chicago:20251017T100000
DTEND;TZID=America/Chicago:20251017T110000
DTSTAMP:20260423T010423
CREATED:20250413T174309Z
LAST-MODIFIED:20250413T174311Z
UID:3044-1760695200-1760698800@tessclarkson.com
SUMMARY:Astrology Series
DESCRIPTION:Join a FREE monthly astrology series as the St. Louis County Library to learn the basics of astrology\, create your natal chart\, and talk about one planet and sign each month! https://www.slcl.org
URL:https://tessclarkson.com/event/astrology-series-31/
LOCATION:Samuel C. Sachs Branch\, 16400 Burkhardt Pl.\, Chesterfield\, 63017\, United States
CATEGORIES:Astrology
ATTACH;FMTTYPE=image/jpeg:https://tessclarkson.com/wp-content/uploads/2023/08/qtq80-Sgun2G.jpeg
END:VEVENT
BEGIN:VEVENT
DTSTART;TZID=America/Chicago:20251017T113000
DTEND;TZID=America/Chicago:20251017T123000
DTSTAMP:20260423T010423
CREATED:20250826T145517Z
LAST-MODIFIED:20250826T145519Z
UID:3184-1760700600-1760704200@tessclarkson.com
SUMMARY:Basic Vinyasa Yoga + Guided Meditation
DESCRIPTION:Join a FREE Basic Vinyasa Yoga + Guided Meditation class at the Samuel C. Sachs Branch of the St. Louis County Library. \n\n\n\nRelax\, stretch and strengthen your body with basic vinyasa yoga. Warm up\, flow through fundamental yoga poses and relax with a guided meditation designed to create a union of body and mind. Bring a yoga mat or large towel and wear comfortable clothes. \n\n\n\nhttps://www.slcl.org/hours-and-locations/samuel-c-sachs-branch
URL:https://tessclarkson.com/event/basic-vinyasa-yoga-guided-meditation-60/
LOCATION:Samuel C. Sachs Branch\, 16400 Burkhardt Pl.\, Chesterfield\, 63017\, United States
CATEGORIES:Meditation,Yoga
ATTACH;FMTTYPE=image/jpeg:https://tessclarkson.com/wp-content/uploads/2025/03/qtq80-cJVabH.jpeg
END:VEVENT
BEGIN:VEVENT
DTSTART;TZID=America/Chicago:20251017T140000
DTEND;TZID=America/Chicago:20251017T150000
DTSTAMP:20260423T010423
CREATED:20250826T202528Z
LAST-MODIFIED:20250826T202529Z
UID:3215-1760709600-1760713200@tessclarkson.com
SUMMARY:SUBSTACK: Astrology Workshop
DESCRIPTION:Join me through my Substack Community for a monthly astrology workshop. We will review the basics of astrology and the current energy. Discover more here: https://substack.com/@tessclarkson
URL:https://tessclarkson.com/event/substack-astrology-workshop-6/
CATEGORIES:Astrology,Community
ATTACH;FMTTYPE=image/jpeg:https://tessclarkson.com/wp-content/uploads/2025/04/Instagram-CP-6.jpg
END:VEVENT
BEGIN:VEVENT
DTSTART;TZID=America/Chicago:20251018T110000
DTEND;TZID=America/Chicago:20251018T120000
DTSTAMP:20260423T010423
CREATED:20241220T004048Z
LAST-MODIFIED:20241220T004048Z
UID:2349-1760785200-1760788800@tessclarkson.com
SUMMARY:Creative Circle
DESCRIPTION:Contact me to register for this free online event. Approx. 1 hour. Get 3 writing prompts. Write for 20 minutes. Have an opportunity to share your work and receive positive feedback!
URL:https://tessclarkson.com/event/creative-circle-40/
CATEGORIES:Writing
ATTACH;FMTTYPE=image/jpeg:https://tessclarkson.com/wp-content/uploads/2021/03/john-jennings-I_kGNSAqD-8-unsplash-scaled-e1616523844167.jpg
END:VEVENT
BEGIN:VEVENT
DTSTART;TZID=America/Chicago:20251018T190000
DTEND;TZID=America/Chicago:20251018T213000
DTSTAMP:20260423T010423
CREATED:20250413T021933Z
LAST-MODIFIED:20250413T021935Z
UID:3024-1760814000-1760823000@tessclarkson.com
SUMMARY:Spirit Circle
DESCRIPTION:A PRIVATE meditation group event. Contact me for information.
URL:https://tessclarkson.com/event/spirit-circle-22/
CATEGORIES:Meditation
ATTACH;FMTTYPE=image/jpeg:https://tessclarkson.com/wp-content/uploads/2024/12/qtq80-4dl8gW-e1767649149199.jpeg
END:VEVENT
BEGIN:VEVENT
DTSTART;TZID=America/Chicago:20251021T010000
DTEND;TZID=America/Chicago:20251021T013000
DTSTAMP:20260423T010423
CREATED:20250826T201640Z
LAST-MODIFIED:20251017T225847Z
UID:3211-1761008400-1761010200@tessclarkson.com
SUMMARY:SUBSTACK: Midday Vitality Meditation
DESCRIPTION:Join me for a 22-minute guided meditation to relax and reset your energy for the day! Find more information here: https://substack.com/@tessclarkson
URL:https://tessclarkson.com/event/substack-midday-vitality-meditation-5/
CATEGORIES:Meditation
ATTACH;FMTTYPE=image/jpeg:https://tessclarkson.com/wp-content/uploads/2025/04/qtq80-iNcFES.jpeg
END:VEVENT
BEGIN:VEVENT
DTSTART;TZID=America/Chicago:20251023T073000
DTEND;TZID=America/Chicago:20251023T083000
DTSTAMP:20260423T010423
CREATED:20251017T232325Z
LAST-MODIFIED:20251017T232327Z
UID:3232-1761204600-1761208200@tessclarkson.com
SUMMARY:Advance Vinyasa Yoga + Guided Meditation
DESCRIPTION:Join me live\, online for an Advance Vinyasa Yoga + Guided Meditation class! We begin with a gentle warm-up sequence in which we will create awareness and activate the body for our practice. We will flow through fundamental poses while being conscious of each inhale and exhale. The sequences create a union with the mind\, body and spirit and develop strength and flexibility. The class will conclude with a restorative guided meditation\, designed to integrate the benefits of the entire practice and support deep relaxation. \n\n\n\nContact me for more information.
URL:https://tessclarkson.com/event/advance-vinyasa-yoga-guided-meditation-3/
CATEGORIES:Yoga
ATTACH;FMTTYPE=image/jpeg:https://tessclarkson.com/wp-content/uploads/2024/12/17-e1760743636334.jpg
END:VEVENT
BEGIN:VEVENT
DTSTART;TZID=America/Chicago:20251027T000000
DTEND;TZID=America/Chicago:20251027T235959
DTSTAMP:20260423T010423
CREATED:20250825T201109Z
LAST-MODIFIED:20250826T200508Z
UID:3149-1761523200-1761609599@tessclarkson.com
SUMMARY:Grief & Creativity Workshop
DESCRIPTION:Through creative expression\, we will explore and make space for grief and anticipatory grief and their meaning in our lives. No writing experience required.  \n\n\n\n \n\n\n\nThis is a private event.
URL:https://tessclarkson.com/event/grief-creativity-workshop-6/
CATEGORIES:Death Doula
ATTACH;FMTTYPE=image/jpeg:https://tessclarkson.com/wp-content/uploads/2024/02/qtq80-QVb3QR.jpeg
END:VEVENT
BEGIN:VEVENT
DTSTART;TZID=America/Chicago:20251030T073000
DTEND;TZID=America/Chicago:20251030T083000
DTSTAMP:20260423T010423
CREATED:20251017T232734Z
LAST-MODIFIED:20251017T232736Z
UID:3234-1761809400-1761813000@tessclarkson.com
SUMMARY:Advance Vinyasa Yoga + Guided Meditation
DESCRIPTION:Join me live\, online for an Advance Vinyasa Yoga + Guided Meditation class! We begin with a gentle warm-up sequence in which we will create awareness and activate the body for our practice. We will flow through fundamental poses while being conscious of each inhale and exhale. The sequences create a union with the mind\, body and spirit and develop strength and flexibility. The class will conclude with a restorative guided meditation\, designed to integrate the benefits of the entire practice and support deep relaxation. \n\n\n\nContact me for more information.
URL:https://tessclarkson.com/event/advance-vinyasa-yoga-guided-meditation-4/
CATEGORIES:Yoga
ATTACH;FMTTYPE=image/jpeg:https://tessclarkson.com/wp-content/uploads/2024/12/17-e1760743636334.jpg
END:VEVENT
BEGIN:VEVENT
DTSTART;TZID=America/Chicago:20251030T190000
DTEND;TZID=America/Chicago:20251030T200000
DTSTAMP:20260423T010423
CREATED:20250826T144803Z
LAST-MODIFIED:20250826T144805Z
UID:3181-1761850800-1761854400@tessclarkson.com
SUMMARY:Basic Vinyasa Yoga + Guided Meditation
DESCRIPTION:Join a FREE basic vinyasa yoga + guided meditation class at the St. Charles City-County Library! Register at the library website here.
URL:https://tessclarkson.com/event/basic-vinyasa-yoga-guided-meditation-59/
LOCATION:Middendorf-Kredell Branch\, O'Fallon\, MO\, 63368\, United States
CATEGORIES:Meditation,Writing
ATTACH;FMTTYPE=image/jpeg:https://tessclarkson.com/wp-content/uploads/2025/03/qtq80-cJVabH.jpeg
END:VEVENT
BEGIN:VEVENT
DTSTART;TZID=America/Chicago:20251105T010000
DTEND;TZID=America/Chicago:20251105T140000
DTSTAMP:20260423T010423
CREATED:20251017T230156Z
LAST-MODIFIED:20251017T231253Z
UID:3218-1762304400-1762351200@tessclarkson.com
SUMMARY:SUBSTACK: Cosmic Connection Hour
DESCRIPTION:Join me through my Substack community via Zoom for an hour of conversation and connection. We’ll meditate to ground our energy and then discuss astrology and more. Discover more here: https://substack.com/@tessclarkson
URL:https://tessclarkson.com/event/3218/
CATEGORIES:Astrology,Community,Meditation
ATTACH;FMTTYPE=image/jpeg:https://tessclarkson.com/wp-content/uploads/2025/08/qtq80-KSd6dk.jpeg
END:VEVENT
BEGIN:VEVENT
DTSTART;TZID=America/Chicago:20251106T073000
DTEND;TZID=America/Chicago:20251106T203000
DTSTAMP:20260423T010423
CREATED:20251017T232942Z
LAST-MODIFIED:20251017T232944Z
UID:3236-1762414200-1762461000@tessclarkson.com
SUMMARY:Advance Vinyasa Yoga + Guided Meditation
DESCRIPTION:Join me live\, online for an Advance Vinyasa Yoga + Guided Meditation class! We begin with a gentle warm-up sequence in which we will create awareness and activate the body for our practice. We will flow through fundamental poses while being conscious of each inhale and exhale. The sequences create a union with the mind\, body and spirit and develop strength and flexibility. The class will conclude with a restorative guided meditation\, designed to integrate the benefits of the entire practice and support deep relaxation. \n\n\n\nContact me for more information.
URL:https://tessclarkson.com/event/advance-vinyasa-yoga-guided-meditation-5/
CATEGORIES:Yoga
ATTACH;FMTTYPE=image/jpeg:https://tessclarkson.com/wp-content/uploads/2024/12/17-e1760743636334.jpg
END:VEVENT
BEGIN:VEVENT
DTSTART;TZID=America/Chicago:20251113T073000
DTEND;TZID=America/Chicago:20251113T083000
DTSTAMP:20260423T010423
CREATED:20251017T233142Z
LAST-MODIFIED:20251017T233144Z
UID:3238-1763019000-1763022600@tessclarkson.com
SUMMARY:Advance Vinyasa Yoga + Guided Meditation
DESCRIPTION:Join me live\, online for an Advance Vinyasa Yoga + Guided Meditation class! We begin with a gentle warm-up sequence in which we will create awareness and activate the body for our practice. We will flow through fundamental poses while being conscious of each inhale and exhale. The sequences create a union with the mind\, body and spirit and develop strength and flexibility. The class will conclude with a restorative guided meditation\, designed to integrate the benefits of the entire practice and support deep relaxation. \n\n\n\nContact me for more information.
URL:https://tessclarkson.com/event/advance-vinyasa-yoga-guided-meditation-6/
CATEGORIES:Astrology,Yoga
ATTACH;FMTTYPE=image/jpeg:https://tessclarkson.com/wp-content/uploads/2024/12/17-e1760743636334.jpg
END:VEVENT
BEGIN:VEVENT
DTSTART;TZID=America/Chicago:20251114T100000
DTEND;TZID=America/Chicago:20251114T110000
DTSTAMP:20260423T010423
CREATED:20250413T174428Z
LAST-MODIFIED:20250707T132731Z
UID:3046-1763114400-1763118000@tessclarkson.com
SUMMARY:Astrology Series
DESCRIPTION:Join a FREE monthly astrology series as the St. Louis County Library to learn the basics of astrology\, create your natal chart\, and talk about one planet and sign each month! https://www.slcl.org
URL:https://tessclarkson.com/event/astrology-series-32/
LOCATION:Samuel C. Sachs Branch\, 16400 Burkhardt Pl.\, Chesterfield\, 63017\, United States
CATEGORIES:Astrology
ATTACH;FMTTYPE=image/jpeg:https://tessclarkson.com/wp-content/uploads/2023/08/qtq80-Sgun2G.jpeg
END:VEVENT
BEGIN:VEVENT
DTSTART;TZID=America/Chicago:20251114T113000
DTEND;TZID=America/Chicago:20251114T123000
DTSTAMP:20260423T010423
CREATED:20250413T175240Z
LAST-MODIFIED:20250707T132702Z
UID:3058-1763119800-1763123400@tessclarkson.com
SUMMARY:Basic Vinyasa Yoga + Guided Meditation
DESCRIPTION:Join a FREE Basic Vinyasa Yoga + Guided Meditation class at the Samuel C. Sachs Branch of the St. Louis County Library \n\n\n\nRelax\, stretch and strengthen your body with basic vinyasa yoga. Warm up\, flow through fundamental yoga poses and relax with a guided meditation designed to create a union of body and mind. Bring a yoga mat or large towel and wear comfortable clothes. \n\n\n\nhttps://www.slcl.org/hours-and-locations/samuel-c-sachs-branch
URL:https://tessclarkson.com/event/basic-vinyasa-yoga-guided-meditation-56/
LOCATION:Samuel C. Sachs Branch\, 16400 Burkhardt Pl.\, Chesterfield\, 63017\, United States
CATEGORIES:Yoga
ATTACH;FMTTYPE=image/jpeg:https://tessclarkson.com/wp-content/uploads/2025/03/qtq80-cJVabH.jpeg
END:VEVENT
BEGIN:VEVENT
DTSTART;TZID=America/Chicago:20251114T140000
DTEND;TZID=America/Chicago:20251114T150000
DTSTAMP:20260423T010423
CREATED:20251017T231618Z
LAST-MODIFIED:20251017T231620Z
UID:3230-1763128800-1763132400@tessclarkson.com
SUMMARY:SUBSTACK: Astrology Workshop
DESCRIPTION:Join me through my Substack Community for a monthly astrology workshop. We will review the basics of astrology and the current energy. Discover more here: https://substack.com/@tessclarkson
URL:https://tessclarkson.com/event/substack-astrology-workshop-8/
CATEGORIES:Astrology
ATTACH;FMTTYPE=image/jpeg:https://tessclarkson.com/wp-content/uploads/2025/04/Instagram-CP-6.jpg
END:VEVENT
END:VCALENDAR