BEGIN:VCALENDAR
VERSION:2.0
PRODID:-// - ECPv6.15.20//NONSGML v1.0//EN
CALSCALE:GREGORIAN
METHOD:PUBLISH
X-ORIGINAL-URL:https://tessclarkson.com
X-WR-CALDESC:Events for 
REFRESH-INTERVAL;VALUE=DURATION:PT1H
X-Robots-Tag:noindex
X-PUBLISHED-TTL:PT1H
BEGIN:VTIMEZONE
TZID:America/Chicago
BEGIN:DAYLIGHT
TZOFFSETFROM:-0600
TZOFFSETTO:-0500
TZNAME:CDT
DTSTART:20230312T080000
END:DAYLIGHT
BEGIN:STANDARD
TZOFFSETFROM:-0500
TZOFFSETTO:-0600
TZNAME:CST
DTSTART:20231105T070000
END:STANDARD
BEGIN:DAYLIGHT
TZOFFSETFROM:-0600
TZOFFSETTO:-0500
TZNAME:CDT
DTSTART:20240310T080000
END:DAYLIGHT
BEGIN:STANDARD
TZOFFSETFROM:-0500
TZOFFSETTO:-0600
TZNAME:CST
DTSTART:20241103T070000
END:STANDARD
BEGIN:DAYLIGHT
TZOFFSETFROM:-0600
TZOFFSETTO:-0500
TZNAME:CDT
DTSTART:20250309T080000
END:DAYLIGHT
BEGIN:STANDARD
TZOFFSETFROM:-0500
TZOFFSETTO:-0600
TZNAME:CST
DTSTART:20251102T070000
END:STANDARD
END:VTIMEZONE
BEGIN:VEVENT
DTSTART;TZID=America/Chicago:20241102T113000
DTEND;TZID=America/Chicago:20241102T123000
DTSTAMP:20260423T202633
CREATED:20241101T222647Z
LAST-MODIFIED:20241101T222647Z
UID:2296-1730547000-1730550600@tessclarkson.com
SUMMARY:Creative Circle
DESCRIPTION:Contact me  to register for this free online event. Get 3 writing prompts. Write for 20 minutes. Have an opportunity to share your work and receive positive feedback!
URL:https://tessclarkson.com/event/creative-circle-29/
LOCATION:Source Creations
CATEGORIES:Writing
ATTACH;FMTTYPE=image/jpeg:https://tessclarkson.com/wp-content/uploads/2021/03/john-jennings-I_kGNSAqD-8-unsplash-scaled-e1616523844167.jpg
END:VEVENT
BEGIN:VEVENT
DTSTART;TZID=America/Chicago:20241116T110000
DTEND;TZID=America/Chicago:20241116T120000
DTSTAMP:20260423T202633
CREATED:20231111T180010Z
LAST-MODIFIED:20231111T180010Z
UID:1879-1731754800-1731758400@tessclarkson.com
SUMMARY:Creative Circle
DESCRIPTION:Join Barbara Kempe and me online for a Creative Circle!\n\nOn one Saturday each month\, we will gather\, provide prompts\, write for 20 minutes\, and have the opportunity to read what we wrote and get positive feedback.\n\nTime: Approx. 60 minutes.\n\nCost: Free\n\nTo register\, contact me through my online form or via Instagram\, and you will get a Zoom link before the Creative Circle begins.
URL:https://tessclarkson.com/event/creative-circle-25/
CATEGORIES:Writing
ATTACH;FMTTYPE=image/jpeg:https://tessclarkson.com/wp-content/uploads/2021/03/john-jennings-I_kGNSAqD-8-unsplash-scaled-e1616523844167.jpg
END:VEVENT
BEGIN:VEVENT
DTSTART;TZID=America/Chicago:20241123T110000
DTEND;TZID=America/Chicago:20241123T150000
DTSTAMP:20260423T202633
CREATED:20240922T231917Z
LAST-MODIFIED:20240922T231917Z
UID:2279-1732359600-1732374000@tessclarkson.com
SUMMARY:Chicken Soup for the Soul Book Signing Event at Barnes & Noble
DESCRIPTION:Join me and fellow contributors to recent Chicken Soup for the Soul books for an event at Barnes & Noble (Mid Rivers). Buy your book and get it signed!
URL:https://tessclarkson.com/event/chicken-soup-for-the-soul-book-signing-event-at-barnes-noble/
LOCATION:Barnes & Noble\, 320 Mid Rivers Center Drive\, St Peters\, MO\, 63376\, United States
CATEGORIES:Writing
ATTACH;FMTTYPE=image/jpeg:https://tessclarkson.com/wp-content/uploads/2024/09/CSS-Miracles-Angels-Messages-from-Heaven-front-cover-7.3.24-1-e1727047125855.jpg
END:VEVENT
END:VCALENDAR