BEGIN:VCALENDAR
VERSION:2.0
PRODID:-// - ECPv6.15.20//NONSGML v1.0//EN
CALSCALE:GREGORIAN
METHOD:PUBLISH
X-ORIGINAL-URL:https://tessclarkson.com
X-WR-CALDESC:Events for 
REFRESH-INTERVAL;VALUE=DURATION:PT1H
X-Robots-Tag:noindex
X-PUBLISHED-TTL:PT1H
BEGIN:VTIMEZONE
TZID:America/Chicago
BEGIN:DAYLIGHT
TZOFFSETFROM:-0600
TZOFFSETTO:-0500
TZNAME:CDT
DTSTART:20250309T080000
END:DAYLIGHT
BEGIN:STANDARD
TZOFFSETFROM:-0500
TZOFFSETTO:-0600
TZNAME:CST
DTSTART:20251102T070000
END:STANDARD
BEGIN:DAYLIGHT
TZOFFSETFROM:-0600
TZOFFSETTO:-0500
TZNAME:CDT
DTSTART:20260308T080000
END:DAYLIGHT
BEGIN:STANDARD
TZOFFSETFROM:-0500
TZOFFSETTO:-0600
TZNAME:CST
DTSTART:20261101T070000
END:STANDARD
BEGIN:DAYLIGHT
TZOFFSETFROM:-0600
TZOFFSETTO:-0500
TZNAME:CDT
DTSTART:20270314T080000
END:DAYLIGHT
BEGIN:STANDARD
TZOFFSETFROM:-0500
TZOFFSETTO:-0600
TZNAME:CST
DTSTART:20271107T070000
END:STANDARD
END:VTIMEZONE
BEGIN:VEVENT
DTSTART;TZID=America/Chicago:20260423T073000
DTEND;TZID=America/Chicago:20260423T083000
DTSTAMP:20260423T080944
CREATED:20260325T150552Z
LAST-MODIFIED:20260325T150553Z
UID:3495-1776929400-1776933000@tessclarkson.com
SUMMARY:Virtual Advanced Vinyasa Yoga + Guided Meditation
DESCRIPTION:Through a virtual sanctuary via Zoom\, reconnect with your center in a practice that honors the ritual of movement. This advanced vinyasa class invites you to slow down the mind while challenging the body through breath-led sequences. By prioritizing conscious alignment and somatic awareness\, we build a resilient body and a quiet mind. The flow serves as a moving meditation\, preparing you for a final\, seated guided journey into stillness. \n\n\n\nWhat to Expect: \n\n\n\n✨Intelligent Sequencing: Flow that respects the body’s natural wisdom. \n\n\n\n✨Nervous System Regulation: A focus on the breath to cultivate calm. \n\n\n\n✨Deep Integration: Extended meditation to seal your practice. \n\n\n\nCOMPLIMENTARY to paid Substack Subscribers. \n\n\n\nContact me to register. Or follow the link to SUBSTACK. \n\n\n\nZoom link provided for class.
URL:https://tessclarkson.com/event/virtual-advanced-vinyasa-yoga-guided-meditation/
CATEGORIES:Meditation,Yoga
ATTACH;FMTTYPE=image/jpeg:https://tessclarkson.com/wp-content/uploads/2025/12/IMG_4314.jpg
END:VEVENT
BEGIN:VEVENT
DTSTART;TZID=America/Chicago:20260430T130000
DTEND;TZID=America/Chicago:20260430T140000
DTSTAMP:20260423T080944
CREATED:20260324T210204Z
LAST-MODIFIED:20260325T124159Z
UID:3474-1777554000-1777557600@tessclarkson.com
SUMMARY:COSMIC CONNECTION HOUR
DESCRIPTION:Find Your Center and Community at ✨COSMIC CONNECTION HOUR✨. \n\n\n\n✨Looking for a moment of calm in a busy week? Join me through my Substack community via Zoom for our Cosmic Connection Hour. \n\n\n\nWe’ll start by meditating to ground our energy\, followed by an open conversation about astrology\, current transits\, and more. It’s an hour dedicated to conversation\, connection\, and high vibes. \n\n\n\nDiscover more here: https://substack.com/@tessclarkson
URL:https://tessclarkson.com/event/cosmic-connection-hour-2/
CATEGORIES:Astrology,Community,Meditation
ATTACH;FMTTYPE=image/jpeg:https://tessclarkson.com/wp-content/uploads/2025/04/Instagram-CP-6.jpg
END:VEVENT
END:VCALENDAR