BEGIN:VCALENDAR
VERSION:2.0
PRODID:-// - ECPv6.15.20//NONSGML v1.0//EN
CALSCALE:GREGORIAN
METHOD:PUBLISH
X-ORIGINAL-URL:https://tessclarkson.com
X-WR-CALDESC:Events for 
REFRESH-INTERVAL;VALUE=DURATION:PT1H
X-Robots-Tag:noindex
X-PUBLISHED-TTL:PT1H
BEGIN:VTIMEZONE
TZID:America/Chicago
BEGIN:DAYLIGHT
TZOFFSETFROM:-0600
TZOFFSETTO:-0500
TZNAME:CDT
DTSTART:20250309T080000
END:DAYLIGHT
BEGIN:STANDARD
TZOFFSETFROM:-0500
TZOFFSETTO:-0600
TZNAME:CST
DTSTART:20251102T070000
END:STANDARD
BEGIN:DAYLIGHT
TZOFFSETFROM:-0600
TZOFFSETTO:-0500
TZNAME:CDT
DTSTART:20260308T080000
END:DAYLIGHT
BEGIN:STANDARD
TZOFFSETFROM:-0500
TZOFFSETTO:-0600
TZNAME:CST
DTSTART:20261101T070000
END:STANDARD
BEGIN:DAYLIGHT
TZOFFSETFROM:-0600
TZOFFSETTO:-0500
TZNAME:CDT
DTSTART:20270314T080000
END:DAYLIGHT
BEGIN:STANDARD
TZOFFSETFROM:-0500
TZOFFSETTO:-0600
TZNAME:CST
DTSTART:20271107T070000
END:STANDARD
END:VTIMEZONE
BEGIN:VEVENT
DTSTART;TZID=America/Chicago:20260107T080000
DTEND;TZID=America/Chicago:20260107T090000
DTSTAMP:20260423T121749
CREATED:20251224T170023Z
LAST-MODIFIED:20251224T170024Z
UID:3389-1767772800-1767776400@tessclarkson.com
SUMMARY:Advanced Vinyasa Yoga + Guided Meditation
DESCRIPTION:A Virtual Sanctuary for Advanced Body Awareness. \n\n\n\nReconnect with your center in a practice that honors the ritual of movement. This advanced Vinyasa class invites you to slow down the mind while challenging the body through breath-led sequences. \n\n\n\nBy prioritizing conscious alignment and somatic awareness\, we build a resilient body and a quiet mind. The flow serves as a moving meditation\, preparing you for a final\, seated guided journey into stillness. \n\n\n\nWhat to Expect:  \n\n\n\n✨ Intelligent Sequencing: Flow that respects the body’s natural wisdom.  \n\n\n\n✨ Nervous System Regulation: A focus on the breath to cultivate calm.  \n\n\n\n✨ Deep Integration: Extended meditation to seal your practice. \n\n\n\nCOMPLIMENTARY to paid Substack Subscribers \n\n\n\n\n\nContact me to register. Or follow the SUBSTACK link.
URL:https://tessclarkson.com/event/advanced-vinyasa-yoga-guided-meditation-8/
CATEGORIES:Meditation,Yoga
ATTACH;FMTTYPE=image/jpeg:https://tessclarkson.com/wp-content/uploads/2025/12/IMG_4314.jpg
END:VEVENT
BEGIN:VEVENT
DTSTART;TZID=America/Chicago:20260115T073000
DTEND;TZID=America/Chicago:20260115T083000
DTSTAMP:20260423T121749
CREATED:20251224T171046Z
LAST-MODIFIED:20251224T171709Z
UID:3393-1768462200-1768465800@tessclarkson.com
SUMMARY:Advanced Vinyasa Yoga + Guided Meditation
DESCRIPTION:A Virtual Sanctuary for Advanced Body Awareness. \n\n\n\nReconnect with your center in a practice that honors the ritual of movement. This advanced Vinyasa class invites you to slow down the mind while challenging the body through breath-led sequences. \n\n\n\nBy prioritizing conscious alignment and somatic awareness\, we build a resilient body and a quiet mind. The flow serves as a moving meditation\, preparing you for a final\, seated guided journey into stillness. \n\n\n\nWhat to Expect: \n\n\n\n✨ Intelligent Sequencing: Flow that respects the body’s natural wisdom. \n\n\n\n✨ Nervous System Regulation: A focus on the breath to cultivate calm. \n\n\n\n✨ Deep Integration: Extended meditation to seal your practice. \n\n\n\nCOMPLIMENTARY to paid Substack Subscribers. \n\n\n\nContact me to register. Or follow the link to SUBSTACK.
URL:https://tessclarkson.com/event/advanced-vinyasa-yoga-guided-meditation-9/
CATEGORIES:Meditation,Yoga
ATTACH;FMTTYPE=image/jpeg:https://tessclarkson.com/wp-content/uploads/2025/12/IMG_4314.jpg
END:VEVENT
BEGIN:VEVENT
DTSTART;TZID=America/Chicago:20260115T193000
DTEND;TZID=America/Chicago:20260115T220000
DTSTAMP:20260423T121749
CREATED:20251203T183315Z
LAST-MODIFIED:20251203T183317Z
UID:3365-1768505400-1768514400@tessclarkson.com
SUMMARY:Spirit Circle
DESCRIPTION:A private meditation event.
URL:https://tessclarkson.com/event/spirit-circle-23/
CATEGORIES:Community,Meditation
ATTACH;FMTTYPE=image/jpeg:https://tessclarkson.com/wp-content/uploads/2025/02/qtq80-4cQH03.jpeg
END:VEVENT
BEGIN:VEVENT
DTSTART;TZID=America/Chicago:20260129T073000
DTEND;TZID=America/Chicago:20260129T083000
DTSTAMP:20260423T121749
CREATED:20251224T171630Z
LAST-MODIFIED:20251224T171632Z
UID:3397-1769671800-1769675400@tessclarkson.com
SUMMARY:Advanced Vinyasa Yoga + Guided Meditation
DESCRIPTION:A Virtual Sanctuary for Advanced Body Awareness. \n\n\n\nReconnect with your center in a practice that honors the ritual of movement. This advanced Vinyasa class invites you to slow down the mind while challenging the body through breath-led sequences. \n\n\n\nBy prioritizing conscious alignment and somatic awareness\, we build a resilient body and a quiet mind. The flow serves as a moving meditation\, preparing you for a final\, seated guided journey into stillness. \n\n\n\nWhat to Expect: \n\n\n\n✨ Intelligent Sequencing: Flow that respects the body’s natural wisdom. \n\n\n\n✨ Nervous System Regulation: A focus on the breath to cultivate calm. \n\n\n\n✨ Deep Integration: Extended meditation to seal your practice. \n\n\n\nCOMPLIMENTARY to paid Substack Subscribers \n\n\n\nContact me to register. Or follow the link to SUBSTACK.
URL:https://tessclarkson.com/event/advanced-vinyasa-yoga-guided-meditation-11/
CATEGORIES:Meditation,Yoga
ATTACH;FMTTYPE=image/jpeg:https://tessclarkson.com/wp-content/uploads/2025/12/IMG_4314.jpg
END:VEVENT
END:VCALENDAR