BEGIN:VCALENDAR
VERSION:2.0
PRODID:-// - ECPv6.15.20//NONSGML v1.0//EN
CALSCALE:GREGORIAN
METHOD:PUBLISH
X-ORIGINAL-URL:https://tessclarkson.com
X-WR-CALDESC:Events for 
REFRESH-INTERVAL;VALUE=DURATION:PT1H
X-Robots-Tag:noindex
X-PUBLISHED-TTL:PT1H
BEGIN:VTIMEZONE
TZID:America/Chicago
BEGIN:DAYLIGHT
TZOFFSETFROM:-0600
TZOFFSETTO:-0500
TZNAME:CDT
DTSTART:20240310T080000
END:DAYLIGHT
BEGIN:STANDARD
TZOFFSETFROM:-0500
TZOFFSETTO:-0600
TZNAME:CST
DTSTART:20241103T070000
END:STANDARD
BEGIN:DAYLIGHT
TZOFFSETFROM:-0600
TZOFFSETTO:-0500
TZNAME:CDT
DTSTART:20250309T080000
END:DAYLIGHT
BEGIN:STANDARD
TZOFFSETFROM:-0500
TZOFFSETTO:-0600
TZNAME:CST
DTSTART:20251102T070000
END:STANDARD
BEGIN:DAYLIGHT
TZOFFSETFROM:-0600
TZOFFSETTO:-0500
TZNAME:CDT
DTSTART:20260308T080000
END:DAYLIGHT
BEGIN:STANDARD
TZOFFSETFROM:-0500
TZOFFSETTO:-0600
TZNAME:CST
DTSTART:20261101T070000
END:STANDARD
END:VTIMEZONE
BEGIN:VEVENT
DTSTART;TZID=America/Chicago:20251105T010000
DTEND;TZID=America/Chicago:20251105T140000
DTSTAMP:20260423T150153
CREATED:20251017T230156Z
LAST-MODIFIED:20251017T231253Z
UID:3218-1762304400-1762351200@tessclarkson.com
SUMMARY:SUBSTACK: Cosmic Connection Hour
DESCRIPTION:Join me through my Substack community via Zoom for an hour of conversation and connection. We’ll meditate to ground our energy and then discuss astrology and more. Discover more here: https://substack.com/@tessclarkson
URL:https://tessclarkson.com/event/3218/
CATEGORIES:Astrology,Community,Meditation
ATTACH;FMTTYPE=image/jpeg:https://tessclarkson.com/wp-content/uploads/2025/08/qtq80-KSd6dk.jpeg
END:VEVENT
BEGIN:VEVENT
DTSTART;TZID=America/Chicago:20251114T193000
DTEND;TZID=America/Chicago:20251114T213000
DTSTAMP:20260423T150153
CREATED:20250413T020930Z
LAST-MODIFIED:20250707T132228Z
UID:3020-1763148600-1763155800@tessclarkson.com
SUMMARY:Spirit Circle
DESCRIPTION:A PRIVATE meditation group event. Contact me for information.
URL:https://tessclarkson.com/event/spirit-circle-20/
CATEGORIES:Meditation
ATTACH;FMTTYPE=image/jpeg:https://tessclarkson.com/wp-content/uploads/2024/12/qtq80-4dl8gW-e1767649149199.jpeg
END:VEVENT
BEGIN:VEVENT
DTSTART;TZID=America/Chicago:20251125T130000
DTEND;TZID=America/Chicago:20251125T133000
DTSTAMP:20260423T150153
CREATED:20251017T231034Z
LAST-MODIFIED:20251017T231035Z
UID:3223-1764075600-1764077400@tessclarkson.com
SUMMARY:SUBSTACK: Midday Vitality Meditation
DESCRIPTION:Join me for a 22-minute guided meditation to relax and reset your energy for the day! Find more information here: https://substack.com/@tessclarkson
URL:https://tessclarkson.com/event/substack-midday-vitality-meditation-6/
CATEGORIES:Meditation
ATTACH;FMTTYPE=image/jpeg:https://tessclarkson.com/wp-content/uploads/2025/04/qtq80-iNcFES.jpeg
END:VEVENT
END:VCALENDAR