BEGIN:VCALENDAR
VERSION:2.0
PRODID:-// - ECPv6.15.20//NONSGML v1.0//EN
CALSCALE:GREGORIAN
METHOD:PUBLISH
X-ORIGINAL-URL:https://tessclarkson.com
X-WR-CALDESC:Events for 
REFRESH-INTERVAL;VALUE=DURATION:PT1H
X-Robots-Tag:noindex
X-PUBLISHED-TTL:PT1H
BEGIN:VTIMEZONE
TZID:America/Chicago
BEGIN:DAYLIGHT
TZOFFSETFROM:-0600
TZOFFSETTO:-0500
TZNAME:CDT
DTSTART:20240310T080000
END:DAYLIGHT
BEGIN:STANDARD
TZOFFSETFROM:-0500
TZOFFSETTO:-0600
TZNAME:CST
DTSTART:20241103T070000
END:STANDARD
BEGIN:DAYLIGHT
TZOFFSETFROM:-0600
TZOFFSETTO:-0500
TZNAME:CDT
DTSTART:20250309T080000
END:DAYLIGHT
BEGIN:STANDARD
TZOFFSETFROM:-0500
TZOFFSETTO:-0600
TZNAME:CST
DTSTART:20251102T070000
END:STANDARD
BEGIN:DAYLIGHT
TZOFFSETFROM:-0600
TZOFFSETTO:-0500
TZNAME:CDT
DTSTART:20260308T080000
END:DAYLIGHT
BEGIN:STANDARD
TZOFFSETFROM:-0500
TZOFFSETTO:-0600
TZNAME:CST
DTSTART:20261101T070000
END:STANDARD
END:VTIMEZONE
BEGIN:VEVENT
DTSTART;TZID=America/Chicago:20251006T140000
DTEND;TZID=America/Chicago:20251006T150000
DTSTAMP:20260423T163211
CREATED:20250826T202117Z
LAST-MODIFIED:20250826T202120Z
UID:3213-1759759200-1759762800@tessclarkson.com
SUMMARY:SUBSTACK: Cosmic Connection Hour
DESCRIPTION:Join me through my Substack community via Zoom for an hour of conversation and connection. We’ll meditate to ground our energy and then discuss astrology and more. Discover more here: https://substack.com/@tessclarkson
URL:https://tessclarkson.com/event/substack-cosmic-connection-hour/
CATEGORIES:Astrology,Community,Meditation
ATTACH;FMTTYPE=image/jpeg:https://tessclarkson.com/wp-content/uploads/2025/08/qtq80-KSd6dk.jpeg
END:VEVENT
BEGIN:VEVENT
DTSTART;TZID=America/Chicago:20251017T113000
DTEND;TZID=America/Chicago:20251017T123000
DTSTAMP:20260423T163211
CREATED:20250826T145517Z
LAST-MODIFIED:20250826T145519Z
UID:3184-1760700600-1760704200@tessclarkson.com
SUMMARY:Basic Vinyasa Yoga + Guided Meditation
DESCRIPTION:Join a FREE Basic Vinyasa Yoga + Guided Meditation class at the Samuel C. Sachs Branch of the St. Louis County Library. \n\n\n\nRelax\, stretch and strengthen your body with basic vinyasa yoga. Warm up\, flow through fundamental yoga poses and relax with a guided meditation designed to create a union of body and mind. Bring a yoga mat or large towel and wear comfortable clothes. \n\n\n\nhttps://www.slcl.org/hours-and-locations/samuel-c-sachs-branch
URL:https://tessclarkson.com/event/basic-vinyasa-yoga-guided-meditation-60/
LOCATION:Samuel C. Sachs Branch\, 16400 Burkhardt Pl.\, Chesterfield\, 63017\, United States
CATEGORIES:Meditation,Yoga
ATTACH;FMTTYPE=image/jpeg:https://tessclarkson.com/wp-content/uploads/2025/03/qtq80-cJVabH.jpeg
END:VEVENT
BEGIN:VEVENT
DTSTART;TZID=America/Chicago:20251018T190000
DTEND;TZID=America/Chicago:20251018T213000
DTSTAMP:20260423T163211
CREATED:20250413T021933Z
LAST-MODIFIED:20250413T021935Z
UID:3024-1760814000-1760823000@tessclarkson.com
SUMMARY:Spirit Circle
DESCRIPTION:A PRIVATE meditation group event. Contact me for information.
URL:https://tessclarkson.com/event/spirit-circle-22/
CATEGORIES:Meditation
ATTACH;FMTTYPE=image/jpeg:https://tessclarkson.com/wp-content/uploads/2024/12/qtq80-4dl8gW-e1767649149199.jpeg
END:VEVENT
BEGIN:VEVENT
DTSTART;TZID=America/Chicago:20251021T010000
DTEND;TZID=America/Chicago:20251021T013000
DTSTAMP:20260423T163211
CREATED:20250826T201640Z
LAST-MODIFIED:20251017T225847Z
UID:3211-1761008400-1761010200@tessclarkson.com
SUMMARY:SUBSTACK: Midday Vitality Meditation
DESCRIPTION:Join me for a 22-minute guided meditation to relax and reset your energy for the day! Find more information here: https://substack.com/@tessclarkson
URL:https://tessclarkson.com/event/substack-midday-vitality-meditation-5/
CATEGORIES:Meditation
ATTACH;FMTTYPE=image/jpeg:https://tessclarkson.com/wp-content/uploads/2025/04/qtq80-iNcFES.jpeg
END:VEVENT
BEGIN:VEVENT
DTSTART;TZID=America/Chicago:20251030T190000
DTEND;TZID=America/Chicago:20251030T200000
DTSTAMP:20260423T163211
CREATED:20250826T144803Z
LAST-MODIFIED:20250826T144805Z
UID:3181-1761850800-1761854400@tessclarkson.com
SUMMARY:Basic Vinyasa Yoga + Guided Meditation
DESCRIPTION:Join a FREE basic vinyasa yoga + guided meditation class at the St. Charles City-County Library! Register at the library website here.
URL:https://tessclarkson.com/event/basic-vinyasa-yoga-guided-meditation-59/
LOCATION:Middendorf-Kredell Branch\, O'Fallon\, MO\, 63368\, United States
CATEGORIES:Meditation,Writing
ATTACH;FMTTYPE=image/jpeg:https://tessclarkson.com/wp-content/uploads/2025/03/qtq80-cJVabH.jpeg
END:VEVENT
END:VCALENDAR