BEGIN:VCALENDAR
VERSION:2.0
PRODID:-// - ECPv6.15.20//NONSGML v1.0//EN
CALSCALE:GREGORIAN
METHOD:PUBLISH
X-ORIGINAL-URL:https://tessclarkson.com
X-WR-CALDESC:Events for 
REFRESH-INTERVAL;VALUE=DURATION:PT1H
X-Robots-Tag:noindex
X-PUBLISHED-TTL:PT1H
BEGIN:VTIMEZONE
TZID:America/Chicago
BEGIN:DAYLIGHT
TZOFFSETFROM:-0600
TZOFFSETTO:-0500
TZNAME:CDT
DTSTART:20240310T080000
END:DAYLIGHT
BEGIN:STANDARD
TZOFFSETFROM:-0500
TZOFFSETTO:-0600
TZNAME:CST
DTSTART:20241103T070000
END:STANDARD
BEGIN:DAYLIGHT
TZOFFSETFROM:-0600
TZOFFSETTO:-0500
TZNAME:CDT
DTSTART:20250309T080000
END:DAYLIGHT
BEGIN:STANDARD
TZOFFSETFROM:-0500
TZOFFSETTO:-0600
TZNAME:CST
DTSTART:20251102T070000
END:STANDARD
BEGIN:DAYLIGHT
TZOFFSETFROM:-0600
TZOFFSETTO:-0500
TZNAME:CDT
DTSTART:20260308T080000
END:DAYLIGHT
BEGIN:STANDARD
TZOFFSETFROM:-0500
TZOFFSETTO:-0600
TZNAME:CST
DTSTART:20261101T070000
END:STANDARD
END:VTIMEZONE
BEGIN:VEVENT
DTSTART;TZID=America/Chicago:20250906T100000
DTEND;TZID=America/Chicago:20250906T110000
DTSTAMP:20260423T181652
CREATED:20250826T150355Z
LAST-MODIFIED:20250826T160315Z
UID:3186-1757152800-1757156400@tessclarkson.com
SUMMARY:SUBSTACK: Cosmic Connection Hour
DESCRIPTION:Join me through my Substack community via Zoom for an hour of conversation and connection. We’ll meditate to ground our energy and then discuss astrology and more.  \n\n\n\nDiscover more here: https://substack.com/@tessclarkson
URL:https://tessclarkson.com/event/cosmic-connection-hour/
CATEGORIES:Astrology,Community,Meditation
ATTACH;FMTTYPE=image/jpeg:https://tessclarkson.com/wp-content/uploads/2025/08/qtq80-KSd6dk.jpeg
END:VEVENT
BEGIN:VEVENT
DTSTART;TZID=America/Chicago:20250918T193000
DTEND;TZID=America/Chicago:20250918T220000
DTSTAMP:20260423T181652
CREATED:20250413T020026Z
LAST-MODIFIED:20250608T172628Z
UID:3017-1758223800-1758232800@tessclarkson.com
SUMMARY:Spirit Circle
DESCRIPTION:A PRIVATE meditation group event. Contact me for information.
URL:https://tessclarkson.com/event/spirit-circle-19/
CATEGORIES:Meditation
ATTACH;FMTTYPE=image/jpeg:https://tessclarkson.com/wp-content/uploads/2024/12/qtq80-4dl8gW-e1767649149199.jpeg
END:VEVENT
BEGIN:VEVENT
DTSTART;TZID=America/Chicago:20250929T130000
DTEND;TZID=America/Chicago:20250929T133000
DTSTAMP:20260423T181652
CREATED:20250826T160935Z
LAST-MODIFIED:20250826T201331Z
UID:3192-1759150800-1759152600@tessclarkson.com
SUMMARY:SUBSTACK: Midday Vitality Meditation
DESCRIPTION:Join me for a 22-minute guided meditation to relax and reset your energy for the day! Find more information here: https://substack.com/@tessclarkson
URL:https://tessclarkson.com/event/substack-midday-vitality-meditation-4/
CATEGORIES:Meditation
ATTACH;FMTTYPE=image/jpeg:https://tessclarkson.com/wp-content/uploads/2025/04/qtq80-iNcFES.jpeg
END:VEVENT
END:VCALENDAR