BEGIN:VCALENDAR
VERSION:2.0
PRODID:-// - ECPv6.15.20//NONSGML v1.0//EN
CALSCALE:GREGORIAN
METHOD:PUBLISH
X-ORIGINAL-URL:https://tessclarkson.com
X-WR-CALDESC:Events for 
REFRESH-INTERVAL;VALUE=DURATION:PT1H
X-Robots-Tag:noindex
X-PUBLISHED-TTL:PT1H
BEGIN:VTIMEZONE
TZID:America/Chicago
BEGIN:DAYLIGHT
TZOFFSETFROM:-0600
TZOFFSETTO:-0500
TZNAME:CDT
DTSTART:20240310T080000
END:DAYLIGHT
BEGIN:STANDARD
TZOFFSETFROM:-0500
TZOFFSETTO:-0600
TZNAME:CST
DTSTART:20241103T070000
END:STANDARD
BEGIN:DAYLIGHT
TZOFFSETFROM:-0600
TZOFFSETTO:-0500
TZNAME:CDT
DTSTART:20250309T080000
END:DAYLIGHT
BEGIN:STANDARD
TZOFFSETFROM:-0500
TZOFFSETTO:-0600
TZNAME:CST
DTSTART:20251102T070000
END:STANDARD
BEGIN:DAYLIGHT
TZOFFSETFROM:-0600
TZOFFSETTO:-0500
TZNAME:CDT
DTSTART:20260308T080000
END:DAYLIGHT
BEGIN:STANDARD
TZOFFSETFROM:-0500
TZOFFSETTO:-0600
TZNAME:CST
DTSTART:20261101T070000
END:STANDARD
END:VTIMEZONE
BEGIN:VEVENT
DTSTART;TZID=America/Chicago:20250725T190000
DTEND;TZID=America/Chicago:20250725T210000
DTSTAMP:20260423T212514
CREATED:20250413T015101Z
LAST-MODIFIED:20250413T015103Z
UID:3013-1753470000-1753477200@tessclarkson.com
SUMMARY:Spirit Circle
DESCRIPTION:A PRIVATE meditation group event. Contact me for information.
URL:https://tessclarkson.com/event/spirit-circle-17/
CATEGORIES:Meditation
ATTACH;FMTTYPE=image/jpeg:https://tessclarkson.com/wp-content/uploads/2024/12/qtq80-4dl8gW-e1767649149199.jpeg
END:VEVENT
BEGIN:VEVENT
DTSTART;TZID=America/Chicago:20250729T130000
DTEND;TZID=America/Chicago:20250729T140000
DTSTAMP:20260423T212514
CREATED:20250412T181056Z
LAST-MODIFIED:20250412T181058Z
UID:2970-1753794000-1753797600@tessclarkson.com
SUMMARY:Substack Midday Vitality Meditation
DESCRIPTION:Join me through my Substack community and via Zoom for a 22 minute meditation to release\, relax\, and reset your energy midday. Have a comfortable place to recline and tap into serenity. Discover more here: \n\n\n\nhttps://substack.com/@tessclarkson
URL:https://tessclarkson.com/event/substack-midday-vitality-meditation-2/
CATEGORIES:Meditation
ATTACH;FMTTYPE=image/jpeg:https://tessclarkson.com/wp-content/uploads/2025/04/qtq80-iNcFES.jpeg
END:VEVENT
END:VCALENDAR