BEGIN:VCALENDAR
VERSION:2.0
PRODID:-// - ECPv6.15.20//NONSGML v1.0//EN
CALSCALE:GREGORIAN
METHOD:PUBLISH
X-ORIGINAL-URL:https://tessclarkson.com
X-WR-CALDESC:Events for 
REFRESH-INTERVAL;VALUE=DURATION:PT1H
X-Robots-Tag:noindex
X-PUBLISHED-TTL:PT1H
BEGIN:VTIMEZONE
TZID:America/Chicago
BEGIN:DAYLIGHT
TZOFFSETFROM:-0600
TZOFFSETTO:-0500
TZNAME:CDT
DTSTART:20230312T080000
END:DAYLIGHT
BEGIN:STANDARD
TZOFFSETFROM:-0500
TZOFFSETTO:-0600
TZNAME:CST
DTSTART:20231105T070000
END:STANDARD
BEGIN:DAYLIGHT
TZOFFSETFROM:-0600
TZOFFSETTO:-0500
TZNAME:CDT
DTSTART:20240310T080000
END:DAYLIGHT
BEGIN:STANDARD
TZOFFSETFROM:-0500
TZOFFSETTO:-0600
TZNAME:CST
DTSTART:20241103T070000
END:STANDARD
BEGIN:DAYLIGHT
TZOFFSETFROM:-0600
TZOFFSETTO:-0500
TZNAME:CDT
DTSTART:20250309T080000
END:DAYLIGHT
BEGIN:STANDARD
TZOFFSETFROM:-0500
TZOFFSETTO:-0600
TZNAME:CST
DTSTART:20251102T070000
END:STANDARD
END:VTIMEZONE
BEGIN:VEVENT
DTSTART;TZID=America/Chicago:20240809T190000
DTEND;TZID=America/Chicago:20240809T210000
DTSTAMP:20260424T172511
CREATED:20240604T182935Z
LAST-MODIFIED:20240610T173939Z
UID:2138-1723230000-1723237200@tessclarkson.com
SUMMARY:Spirit Circle
DESCRIPTION:A private meditation gathering.
URL:https://tessclarkson.com/event/spirit-circle-7/
CATEGORIES:Meditation
ATTACH;FMTTYPE=image/jpeg:https://tessclarkson.com/wp-content/uploads/2023/08/qtq80-HEL1v1.jpeg
END:VEVENT
BEGIN:VEVENT
DTSTART;TZID=America/Chicago:20240818T160000
DTEND;TZID=America/Chicago:20240818T171500
DTSTAMP:20260424T172511
CREATED:20240228T164939Z
LAST-MODIFIED:20240604T182107Z
UID:2010-1723996800-1724001300@tessclarkson.com
SUMMARY:Full Moon Meditation Experience
DESCRIPTION:Give yourself time to relax and reset. Join me for a special full moon mediation experience at Barbara Ann Spa. \nJust before the full moon in the sign of Aquarius\, gather for a 75-minute astrological meditation experience. Learn about the full moon. Partake in a journaling exercise and be guided through a meditation designed to help you release\, reset\, and tap into the energy of the full moon in Aquarius. Emerge refreshed. \nHave your time\, date\, and location of birth to register for a personalized meditation. \nRegister at: https://www.barbaraannspa.com/ \n 
URL:https://tessclarkson.com/event/new-moon-meditation-experience/
LOCATION:Barbara Ann Spa\, 118 Centre on the Lake\, Lake St. Louis\, MO\, 63367\, United States
CATEGORIES:Meditation
ATTACH;FMTTYPE=image/jpeg:https://tessclarkson.com/wp-content/uploads/2024/02/qtq80-U2rRBc.jpeg
END:VEVENT
END:VCALENDAR