BEGIN:VCALENDAR
VERSION:2.0
PRODID:-// - ECPv6.15.20//NONSGML v1.0//EN
CALSCALE:GREGORIAN
METHOD:PUBLISH
X-ORIGINAL-URL:https://tessclarkson.com
X-WR-CALDESC:Events for 
REFRESH-INTERVAL;VALUE=DURATION:PT1H
X-Robots-Tag:noindex
X-PUBLISHED-TTL:PT1H
BEGIN:VTIMEZONE
TZID:America/Chicago
BEGIN:DAYLIGHT
TZOFFSETFROM:-0600
TZOFFSETTO:-0500
TZNAME:CDT
DTSTART:20250309T080000
END:DAYLIGHT
BEGIN:STANDARD
TZOFFSETFROM:-0500
TZOFFSETTO:-0600
TZNAME:CST
DTSTART:20251102T070000
END:STANDARD
BEGIN:DAYLIGHT
TZOFFSETFROM:-0600
TZOFFSETTO:-0500
TZNAME:CDT
DTSTART:20260308T080000
END:DAYLIGHT
BEGIN:STANDARD
TZOFFSETFROM:-0500
TZOFFSETTO:-0600
TZNAME:CST
DTSTART:20261101T070000
END:STANDARD
BEGIN:DAYLIGHT
TZOFFSETFROM:-0600
TZOFFSETTO:-0500
TZNAME:CDT
DTSTART:20270314T080000
END:DAYLIGHT
BEGIN:STANDARD
TZOFFSETFROM:-0500
TZOFFSETTO:-0600
TZNAME:CST
DTSTART:20271107T070000
END:STANDARD
END:VTIMEZONE
BEGIN:VEVENT
DTSTART;TZID=America/Chicago:20260501T190000
DTEND;TZID=America/Chicago:20260501T203000
DTSTAMP:20260423T010039
CREATED:20251230T210010Z
LAST-MODIFIED:20260325T192440Z
UID:3419-1777662000-1777667400@tessclarkson.com
SUMMARY:Gentle Journeys Workshop: Discovering Calm & Creativity in Grief
DESCRIPTION:Find peace and a sense of “home” within oneself. \n\n\n\nGrief can feel heavy and loud. The Gentle Journeys Workshop offers you a quiet sanctuary to catch your breath and reclaim your sense of self. Through a nurturing blend of restorative yoga\, guided meditation\, and creative expression\, you will: \n\n\n\n\nRelease Tightness: Use gentle movement to let go of physical tension held in the body.\n\n\n\nFind Your Voice: Externalize complex emotions through simple writing exercises—share your story only if you feel moved to do so.\n\n\n\nRestore Your Spirit: Learn practical tools to access a sense of calm whenever you need it most.\n\n\n\n\nLeave feeling lighter\, clearer\, and more connected to your own resilience. \n\n\n\nNo writing experience required.  \n\n\n\nBring a photo of your beloved departed person or pet\, and/or their favorite object.  \n\n\n\nDress comfortably.
URL:https://tessclarkson.com/event/gentle-journeys-workshop-discovering-calm-creativity-in-grief/
LOCATION:hOMe Yoga\, 1365 Triad Center Drive\, St. Peters\, Missouri\, 63376\, United States
CATEGORIES:Community,Death Doula,Meditation,Writing,Yoga
ATTACH;FMTTYPE=image/jpeg:https://tessclarkson.com/wp-content/uploads/2025/03/qtq80-wFQGwP.jpeg
END:VEVENT
BEGIN:VEVENT
DTSTART;TZID=America/Chicago:20260518T080000
DTEND;TZID=America/Chicago:20260518T170000
DTSTAMP:20260423T010039
CREATED:20260324T211731Z
LAST-MODIFIED:20260324T211734Z
UID:3484-1779091200-1779123600@tessclarkson.com
SUMMARY:Legacy Workshop: The Threads We Weave
DESCRIPTION:Embark upon a gentle journey of reflection and connection as we use guided meditation and creative writing to explore the unique “heart-print” of your life’s story. This workshop invites you to identify the essential values and memories you wish to pass down\, transforming your lived experiences into a lasting narrative legacy. \n\n\n\nPRIVATE EVENT.  \n\n\n\nCONTACT ME TO SCHEDULE THIS WORKSHOP FOR YOU AND YOUR COMMUNITY.
URL:https://tessclarkson.com/event/legacy-workshop-the-threads-we-weave/
CATEGORIES:Death Doula,Writing
ATTACH;FMTTYPE=image/jpeg:https://tessclarkson.com/wp-content/uploads/2023/04/qtq80-KecvIj.jpeg
END:VEVENT
END:VCALENDAR